BEGIN:VCALENDAR
VERSION:2.0
PRODID:-//Just Do It Movement Inc - ECPv6.15.20//NONSGML v1.0//EN
CALSCALE:GREGORIAN
METHOD:PUBLISH
X-WR-CALNAME:Just Do It Movement Inc
X-ORIGINAL-URL:https://jdimovement.org
X-WR-CALDESC:Events for Just Do It Movement Inc
REFRESH-INTERVAL;VALUE=DURATION:PT1H
X-Robots-Tag:noindex
X-PUBLISHED-TTL:PT1H
BEGIN:VTIMEZONE
TZID:UTC
BEGIN:STANDARD
TZOFFSETFROM:+0000
TZOFFSETTO:+0000
TZNAME:UTC
DTSTART:20250101T000000
END:STANDARD
END:VTIMEZONE
BEGIN:VEVENT
DTSTART;TZID=UTC:20260824T110000
DTEND;TZID=UTC:20260824T160000
DTSTAMP:20260421T144102
CREATED:20250110T041146Z
LAST-MODIFIED:20260212T040632Z
UID:4243-1787569200-1787587200@jdimovement.org
SUMMARY:Back to School
DESCRIPTION:Back 2 School Event\nDate: TBDLocation: To Be Announced \nPreparing Students for Success\nThe Back 2 School Drive supports students and families by providing essential school supplies\, resources\, and encouragement as they prepare for the upcoming school year. \nWhy It Matters\nThis initiative helps reduce financial stress on families while ensuring students feel confident\, equipped\, and ready to learn from day one. \nCommunity Support in Action\nThrough donations\, volunteers\, and partnerships\, this event helps create equitable access to educational tools that support long-term student success. \n.
URL:https://jdimovement.org/event/back-to-school/
LOCATION:Just for You Barber/Styling Academy\, NC\, United States
CATEGORIES:Students
ATTACH;FMTTYPE=image/jpeg:https://jdimovement.org/wp-content/uploads/2025/09/EImpress-JDIM-B2S-55-scaled.jpg
END:VEVENT
END:VCALENDAR