BEGIN:VCALENDAR
VERSION:2.0
PRODID:-//Just Do It Movement Inc - ECPv6.15.20//NONSGML v1.0//EN
CALSCALE:GREGORIAN
METHOD:PUBLISH
X-WR-CALNAME:Just Do It Movement Inc
X-ORIGINAL-URL:https://jdimovement.org
X-WR-CALDESC:Events for Just Do It Movement Inc
REFRESH-INTERVAL;VALUE=DURATION:PT1H
X-Robots-Tag:noindex
X-PUBLISHED-TTL:PT1H
BEGIN:VTIMEZONE
TZID:America/New_York
BEGIN:DAYLIGHT
TZOFFSETFROM:-0500
TZOFFSETTO:-0400
TZNAME:EDT
DTSTART:20250309T070000
END:DAYLIGHT
BEGIN:STANDARD
TZOFFSETFROM:-0400
TZOFFSETTO:-0500
TZNAME:EST
DTSTART:20251102T060000
END:STANDARD
BEGIN:DAYLIGHT
TZOFFSETFROM:-0500
TZOFFSETTO:-0400
TZNAME:EDT
DTSTART:20260308T070000
END:DAYLIGHT
BEGIN:STANDARD
TZOFFSETFROM:-0400
TZOFFSETTO:-0500
TZNAME:EST
DTSTART:20261101T060000
END:STANDARD
BEGIN:DAYLIGHT
TZOFFSETFROM:-0500
TZOFFSETTO:-0400
TZNAME:EDT
DTSTART:20270314T070000
END:DAYLIGHT
BEGIN:STANDARD
TZOFFSETFROM:-0400
TZOFFSETTO:-0500
TZNAME:EST
DTSTART:20271107T060000
END:STANDARD
END:VTIMEZONE
BEGIN:VEVENT
DTSTART;VALUE=DATE:20261201
DTEND;VALUE=DATE:20261202
DTSTAMP:20260422T034414
CREATED:20250110T041452Z
LAST-MODIFIED:20260107T170147Z
UID:4247-1796083200-1796169599@jdimovement.org
SUMMARY:Giving Tuesday
DESCRIPTION:Giving Tuesday\nDate: December 1\, 2026Location: Online / Community-Wide \nA Global Day of Generosity\nGiving Tuesday is a worldwide movement dedicated to generosity\, and Just Do It Movement\, Inc. invites you to be part of the impact. \nYour Gift Makes a Difference\nDonations support essential services including identification replacement\, financial literacy\, workforce development\, and community outreach for individuals and families experiencing hardship. \nGive With Purpose\nEvery contribution—big or small—helps create opportunities\, restore dignity\, and strengthen our community.
URL:https://jdimovement.org/event/giving-tuesday/
ATTACH;FMTTYPE=image/png:https://jdimovement.org/wp-content/uploads/2025/01/Giving-Tuesday-Cover-16-x-9-in.png
END:VEVENT
END:VCALENDAR