BEGIN:VCALENDAR
VERSION:2.0
PRODID:-//Just Do It Movement Inc - ECPv6.15.20//NONSGML v1.0//EN
CALSCALE:GREGORIAN
METHOD:PUBLISH
X-ORIGINAL-URL:https://jdimovement.org
X-WR-CALDESC:Events for Just Do It Movement Inc
REFRESH-INTERVAL;VALUE=DURATION:PT1H
X-Robots-Tag:noindex
X-PUBLISHED-TTL:PT1H
BEGIN:VTIMEZONE
TZID:UTC
BEGIN:STANDARD
TZOFFSETFROM:+0000
TZOFFSETTO:+0000
TZNAME:UTC
DTSTART:20250101T000000
END:STANDARD
END:VTIMEZONE
BEGIN:VEVENT
DTSTART;VALUE=DATE:20260807
DTEND;VALUE=DATE:20260808
DTSTAMP:20260421T180354
CREATED:20250110T041347Z
LAST-MODIFIED:20260107T171346Z
UID:4245-1786060800-1786147199@jdimovement.org
SUMMARY:Just Do It Movement\, Inc. Anniversary
DESCRIPTION:Just Do It Movement\, Inc. Anniversary\nDate: August 7\, 2026 \nCelebrating Another Year of Impact\nOn August 7\, 2026\, Just Do It Movement\, Inc. marks another year of service\, growth\, and community impact. What began as a vision to uplift individuals experiencing homelessness has continued to grow into a movement centered on compassion\, dignity\, and action. \nReflecting on Our Mission\nEach year represents continued commitment to: \n\nProviding essential services such as ID replacement and workforce support\nPromoting financial literacy\, self-esteem\, and personal growth\nSupporting displaced individuals\, youth\, and families\nBuilding strong\, supportive communities rooted in care and respect\n\nMoving Forward With Purpose\nThis anniversary serves as a moment to reflect on the lives impacted\, the partnerships formed\, and the work that continues ahead. We are grateful for the supporters\, volunteers\, and community members who help make our mission possible.
URL:https://jdimovement.org/event/just-do-it-movement-inc-anniversary/
ATTACH;FMTTYPE=image/jpeg:https://jdimovement.org/wp-content/uploads/2025/09/EImpress-JDIM-B2S-64-scaled.jpg
END:VEVENT
END:VCALENDAR